BEGIN:VCALENDAR
VERSION:2.0
PRODID:-//hacksw/handcal//NONSGML v1.0//EN
CALSCALE:GREGORIAN
BEGIN:VEVENT
DTSTART:20190226T110000Z
DTEND:20190226T120000Z
UID:e20804
DTSTAMP:20260419T231730Z
LOCATION:Helen and Milton A. Kimmelman Building
DESCRIPTION:Diffusion-Enhanced Photon Inference (DEPI) for accurate retrieval of distance distributions in single-molecule FRET experiments
SUMMARY:Diffusion-Enhanced Photon Inference (DEPI) for accurate retrieval of distance distributions in single-molecule FRET experiments
END:VEVENT
END:VCALENDAR