BEGIN:VCALENDAR
VERSION:2.0
PRODID:-//hacksw/handcal//NONSGML v1.0//EN
CALSCALE:GREGORIAN
BEGIN:VEVENT
DTSTART:20190203T133000Z
DTEND:20190203T143000Z
UID:e20846
DTSTAMP:20260419T100412Z
LOCATION:Perlman Chemical Sciences Building
DESCRIPTION:Microstructural MRI: beyond the Standard Model 
SUMMARY:Microstructural MRI: beyond the Standard Model 
END:VEVENT
END:VCALENDAR