BEGIN:VCALENDAR
VERSION:2.0
PRODID:-//hacksw/handcal//NONSGML v1.0//EN
CALSCALE:GREGORIAN
BEGIN:VEVENT
DTSTART:20190207T070000Z
DTEND:20190207T080000Z
UID:e20848
DTSTAMP:20260419T140628Z
LOCATION:Perlman Chemical Sciences Building
DESCRIPTION:Towards plug and play parallel transmission for 7T human brain MRI with universal pulses
SUMMARY:Towards plug and play parallel transmission for 7T human brain MRI with universal pulses
END:VEVENT
END:VCALENDAR