BEGIN:VCALENDAR
VERSION:2.0
PRODID:-//hacksw/handcal//NONSGML v1.0//EN
CALSCALE:GREGORIAN
BEGIN:VEVENT
DTSTART:20190310T080000Z
DTEND:20190310T080000Z
UID:e20858
DTSTAMP:20260419T185830Z
LOCATION:Sussman Family Building for Environmental Sciences
DESCRIPTION:The interior of Jupiter revealed by Juno
SUMMARY:The interior of Jupiter revealed by Juno
END:VEVENT
END:VCALENDAR