BEGIN:VCALENDAR
VERSION:2.0
PRODID:-//hacksw/handcal//NONSGML v1.0//EN
CALSCALE:GREGORIAN
BEGIN:VEVENT
DTSTART:20190428T080000Z
DTEND:20190428T080000Z
UID:e20870
DTSTAMP:20260421T213544Z
LOCATION:Sussman Family Building for Environmental Sciences
DESCRIPTION:The stinging mechanism of jellyfish
SUMMARY:The stinging mechanism of jellyfish
END:VEVENT
END:VCALENDAR