BEGIN:VCALENDAR
VERSION:2.0
PRODID:-//hacksw/handcal//NONSGML v1.0//EN
CALSCALE:GREGORIAN
BEGIN:VEVENT
DTSTART:20190207T060000Z
DTEND:20190207T070000Z
UID:e20878
DTSTAMP:20260419T100408Z
LOCATION:Max and Lillian Candiotty Building
DESCRIPTION:“Chemical probes for novel biology”  The HTS unit and two stories of  methyltransferase inhibitors
SUMMARY:“Chemical probes for novel biology”  The HTS unit and two stories of  methyltransferase inhibitors
END:VEVENT
END:VCALENDAR