BEGIN:VCALENDAR
VERSION:2.0
PRODID:-//hacksw/handcal//NONSGML v1.0//EN
CALSCALE:GREGORIAN
BEGIN:VEVENT
DTSTART:20190226T080000Z
DTEND:20190226T090000Z
UID:e20888
DTSTAMP:20260419T185608Z
LOCATION:Helen and Milton A. Kimmelman Building
DESCRIPTION:Chemical and Biological Physics and Organic Chemistry Seminar
SUMMARY:Chemical and Biological Physics and Organic Chemistry Seminar
END:VEVENT
END:VCALENDAR