BEGIN:VCALENDAR
VERSION:2.0
PRODID:-//hacksw/handcal//NONSGML v1.0//EN
CALSCALE:GREGORIAN
BEGIN:VEVENT
DTSTART:20190205T083000Z
DTEND:20190205T083000Z
UID:e20898
DTSTAMP:20260419T100405Z
LOCATION:Nella and Leon Benoziyo Building for Biological Sciences
DESCRIPTION:Sequencing giants - the wild emmer wheat genome assembly 
SUMMARY:Sequencing giants - the wild emmer wheat genome assembly 
END:VEVENT
END:VCALENDAR