BEGIN:VCALENDAR
VERSION:2.0
PRODID:-//hacksw/handcal//NONSGML v1.0//EN
CALSCALE:GREGORIAN
BEGIN:VEVENT
DTSTART:20190210T080000Z
DTEND:20190210T090000Z
UID:e20906
DTSTAMP:20260420T054901Z
LOCATION:Perlman Chemical Sciences Building
DESCRIPTION:Self-assemblies of designed B-sheet peptides as hydrogels\, coatings and drug delivery nanoparticles
SUMMARY:Self-assemblies of designed B-sheet peptides as hydrogels\, coatings and drug delivery nanoparticles
END:VEVENT
END:VCALENDAR