BEGIN:VCALENDAR
VERSION:2.0
PRODID:-//hacksw/handcal//NONSGML v1.0//EN
CALSCALE:GREGORIAN
BEGIN:VEVENT
DTSTART:20190205T080000Z
DTEND:20190205T080000Z
UID:e20910
DTSTAMP:20260419T100431Z
LOCATION:Sussman Family Building for Environmental Sciences
DESCRIPTION:δ26Mg values of low-T hydrothermal fluids exert new constraints on the oceanic Mg budget and require significant dolomite formation
SUMMARY:δ26Mg values of low-T hydrothermal fluids exert new constraints on the oceanic Mg budget and require significant dolomite formation
END:VEVENT
END:VCALENDAR