BEGIN:VCALENDAR
VERSION:2.0
PRODID:-//hacksw/handcal//NONSGML v1.0//EN
CALSCALE:GREGORIAN
BEGIN:VEVENT
DTSTART:20190212T110000Z
DTEND:20190212T120000Z
UID:e20932
DTSTAMP:20260419T140629Z
LOCATION:Arthur and Rochelle Belfer Building for Biomedical Research
DESCRIPTION:Action evaluation\, planning and replay
SUMMARY:Action evaluation\, planning and replay
END:VEVENT
END:VCALENDAR