BEGIN:VCALENDAR
VERSION:2.0
PRODID:-//hacksw/handcal//NONSGML v1.0//EN
CALSCALE:GREGORIAN
BEGIN:VEVENT
DTSTART:20190214T100000Z
DTEND:20190214T110000Z
UID:e20946
DTSTAMP:20260419T182218Z
LOCATION:Helen and Martin Kimmel Center for Archaeological Science
DESCRIPTION:Middle Bronze in Erimi Laonin tou Porakou: abandonement dynamics in a protoindustrial site 
SUMMARY:Middle Bronze in Erimi Laonin tou Porakou: abandonement dynamics in a protoindustrial site 
END:VEVENT
END:VCALENDAR