BEGIN:VCALENDAR
VERSION:2.0
PRODID:-//hacksw/handcal//NONSGML v1.0//EN
CALSCALE:GREGORIAN
BEGIN:VEVENT
DTSTART:20190526T050000Z
DTEND:20190527T050000Z
UID:e20968
DTSTAMP:20260421T051221Z
LOCATION:The David Lopatie Conference Centre
DESCRIPTION:Symposium on Big Data in Healthcare\, a partnership between Weizmann Institute of Science and Nature Medicine
SUMMARY:Symposium on Big Data in Healthcare\, a partnership between Weizmann Institute of Science and Nature Medicine
END:VEVENT
END:VCALENDAR