BEGIN:VCALENDAR
VERSION:2.0
PRODID:-//hacksw/handcal//NONSGML v1.0//EN
CALSCALE:GREGORIAN
BEGIN:VEVENT
DTSTART:20190305T060000Z
DTEND:20190305T070000Z
UID:e20996
DTSTAMP:20260420T081005Z
LOCATION:Max and Lillian Candiotty Building
DESCRIPTION:Signaling and Transcriptional Foundations of Human Naïve Pluripotency
SUMMARY:Signaling and Transcriptional Foundations of Human Naïve Pluripotency
END:VEVENT
END:VCALENDAR