BEGIN:VCALENDAR
VERSION:2.0
PRODID:-//hacksw/handcal//NONSGML v1.0//EN
CALSCALE:GREGORIAN
BEGIN:VEVENT
DTSTART:20191029T060000Z
DTEND:20191029T070000Z
UID:e21008
DTSTAMP:20260421T213453Z
LOCATION:Max and Lillian Candiotty Building
DESCRIPTION:'Stem Cells\, Regeneration and Aging Breakfast Seminar with Prof. Steffen Jung
SUMMARY:'Stem Cells\, Regeneration and Aging Breakfast Seminar with Prof. Steffen Jung
END:VEVENT
END:VCALENDAR