BEGIN:VCALENDAR
VERSION:2.0
PRODID:-//hacksw/handcal//NONSGML v1.0//EN
CALSCALE:GREGORIAN
BEGIN:VEVENT
DTSTART:20190305T080000Z
DTEND:20190305T090000Z
UID:e21064
DTSTAMP:20260420T005438Z
LOCATION:Helen and Milton A. Kimmelman Building
DESCRIPTION:Adventures of bambusuril chemistry
SUMMARY:Adventures of bambusuril chemistry
END:VEVENT
END:VCALENDAR