BEGIN:VCALENDAR
VERSION:2.0
PRODID:-//hacksw/handcal//NONSGML v1.0//EN
CALSCALE:GREGORIAN
BEGIN:VEVENT
DTSTART:20190922T050000Z
DTEND:20190925T050000Z
UID:e21130
DTSTAMP:20260420T045927Z
LOCATION:
DESCRIPTION:The Batsheva de Rothschild Seminar on NON-APOPTOTIC ROLES OF APOPTOTIC PROTEINS
SUMMARY:The Batsheva de Rothschild Seminar on NON-APOPTOTIC ROLES OF APOPTOTIC PROTEINS
END:VEVENT
END:VCALENDAR