BEGIN:VCALENDAR
VERSION:2.0
PRODID:-//hacksw/handcal//NONSGML v1.0//EN
CALSCALE:GREGORIAN
BEGIN:VEVENT
DTSTART:20200223T050000Z
DTEND:20200224T050000Z
UID:e21166
DTSTAMP:20260421T174019Z
LOCATION:The David Lopatie Conference Centre
DESCRIPTION:Language of Evolution and Evolution of Language
SUMMARY:Language of Evolution and Evolution of Language
END:VEVENT
END:VCALENDAR