BEGIN:VCALENDAR
VERSION:2.0
PRODID:-//hacksw/handcal//NONSGML v1.0//EN
CALSCALE:GREGORIAN
BEGIN:VEVENT
DTSTART:20190408T080000Z
DTEND:20190408T090000Z
UID:e21190
DTSTAMP:20260421T085040Z
LOCATION:Perlman Chemical Sciences Building
DESCRIPTION:Growth mechanisms of quasi-1D semiconductors and oxides deduced from real-time electron microscopy
SUMMARY:Growth mechanisms of quasi-1D semiconductors and oxides deduced from real-time electron microscopy
END:VEVENT
END:VCALENDAR