BEGIN:VCALENDAR
VERSION:2.0
PRODID:-//hacksw/handcal//NONSGML v1.0//EN
CALSCALE:GREGORIAN
BEGIN:VEVENT
DTSTART:20190410T080000Z
DTEND:20190410T090000Z
UID:e21196
DTSTAMP:20260421T085125Z
LOCATION:Helen and Milton A. Kimmelman Building
DESCRIPTION:Synthetic Reactions Assisted by Photons
SUMMARY:Synthetic Reactions Assisted by Photons
END:VEVENT
END:VCALENDAR