BEGIN:VCALENDAR
VERSION:2.0
PRODID:-//hacksw/handcal//NONSGML v1.0//EN
CALSCALE:GREGORIAN
BEGIN:VEVENT
DTSTART:20190401T100000Z
DTEND:20190401T110000Z
UID:e21204
DTSTAMP:20260421T085238Z
LOCATION:Wolfson Building for Biological Research
DESCRIPTION:IMM Guest seminar- Dr. Amiram Ariel  will lecture on "New cellular and molecular effectors in macrophage-mediated resolution of inflammation."
SUMMARY:IMM Guest seminar- Dr. Amiram Ariel  will lecture on "New cellular and molecular effectors in macrophage-mediated resolution of inflammation."
END:VEVENT
END:VCALENDAR