BEGIN:VCALENDAR
VERSION:2.0
PRODID:-//hacksw/handcal//NONSGML v1.0//EN
CALSCALE:GREGORIAN
BEGIN:VEVENT
DTSTART:20191027T050000Z
DTEND:20191031T050000Z
UID:e21208
DTSTAMP:20260422T204813Z
LOCATION:The David Lopatie Conference Centre
DESCRIPTION:PerICo - Training course and management meeting
SUMMARY:PerICo - Training course and management meeting
END:VEVENT
END:VCALENDAR