BEGIN:VCALENDAR
VERSION:2.0
PRODID:-//hacksw/handcal//NONSGML v1.0//EN
CALSCALE:GREGORIAN
BEGIN:VEVENT
DTSTART:20190404T100000Z
DTEND:20190404T110000Z
UID:e21230
DTSTAMP:20260421T085331Z
LOCATION:Helen and Martin Kimmel Center for Archaeological Science
DESCRIPTION:New directions in coastal and underwater geoarchaeology
SUMMARY:New directions in coastal and underwater geoarchaeology
END:VEVENT
END:VCALENDAR