BEGIN:VCALENDAR
VERSION:2.0
PRODID:-//hacksw/handcal//NONSGML v1.0//EN
CALSCALE:GREGORIAN
BEGIN:VEVENT
DTSTART:20190411T080000Z
DTEND:20190411T090000Z
UID:e21232
DTSTAMP:20260420T190116Z
LOCATION:Max and Lillian Candiotty Building
DESCRIPTION:Epigenetic pathways as targets in human disease
SUMMARY:Epigenetic pathways as targets in human disease
END:VEVENT
END:VCALENDAR