BEGIN:VCALENDAR
VERSION:2.0
PRODID:-//hacksw/handcal//NONSGML v1.0//EN
CALSCALE:GREGORIAN
BEGIN:VEVENT
DTSTART:20190416T080000Z
DTEND:20190416T090000Z
UID:e21236
DTSTAMP:20260420T115929Z
LOCATION:Helen and Milton A. Kimmelman Building
DESCRIPTION:Ultrafast Excited State Dynamics in Twisted Aromatics
SUMMARY:Ultrafast Excited State Dynamics in Twisted Aromatics
END:VEVENT
END:VCALENDAR