BEGIN:VCALENDAR
VERSION:2.0
PRODID:-//hacksw/handcal//NONSGML v1.0//EN
CALSCALE:GREGORIAN
BEGIN:VEVENT
DTSTART:20190416T090000Z
DTEND:20190416T090000Z
UID:e21246
DTSTAMP:20260420T062941Z
LOCATION:Arthur and Rochelle Belfer Building for Biomedical Research
DESCRIPTION:Special Guest Seminar with Dr. Markus Mund
SUMMARY:Special Guest Seminar with Dr. Markus Mund
END:VEVENT
END:VCALENDAR