BEGIN:VCALENDAR
VERSION:2.0
PRODID:-//hacksw/handcal//NONSGML v1.0//EN
CALSCALE:GREGORIAN
BEGIN:VEVENT
DTSTART:20190415T130000Z
DTEND:20190415T140000Z
UID:e21260
DTSTAMP:20260420T034148Z
LOCATION:Nella and Leon Benoziyo Building for Biological Sciences
DESCRIPTION:Sustaining Life with Genes and Proteins Designed De Novo
SUMMARY:Sustaining Life with Genes and Proteins Designed De Novo
END:VEVENT
END:VCALENDAR