BEGIN:VCALENDAR
VERSION:2.0
PRODID:-//hacksw/handcal//NONSGML v1.0//EN
CALSCALE:GREGORIAN
BEGIN:VEVENT
DTSTART:20210518T050000Z
DTEND:20210520T050000Z
UID:e21270
DTSTAMP:20260420T155000Z
LOCATION:The David Lopatie Conference Centre
DESCRIPTION:ABPP 2020
SUMMARY:ABPP 2020
END:VEVENT
END:VCALENDAR