BEGIN:VCALENDAR
VERSION:2.0
PRODID:-//hacksw/handcal//NONSGML v1.0//EN
CALSCALE:GREGORIAN
BEGIN:VEVENT
DTSTART:20190417T110000Z
DTEND:20190417T120000Z
UID:e21278
DTSTAMP:20260423T044657Z
LOCATION:Arthur and Rochelle Belfer Building for Biomedical Research
DESCRIPTION:Bipolar Disorder:  Predicting Outcomes and Identifying Mechanisms
SUMMARY:Bipolar Disorder:  Predicting Outcomes and Identifying Mechanisms
END:VEVENT
END:VCALENDAR