BEGIN:VCALENDAR
VERSION:2.0
PRODID:-//hacksw/handcal//NONSGML v1.0//EN
CALSCALE:GREGORIAN
BEGIN:VEVENT
DTSTART:20190501T080000Z
DTEND:20190501T090000Z
UID:e21312
DTSTAMP:20260420T115926Z
LOCATION:Perlman Chemical Sciences Building
DESCRIPTION:Excitons in Flatland: Exploring and Manipulating Many-body Effects on the Optical Excitations in Quasi-2D Materials
SUMMARY:Excitons in Flatland: Exploring and Manipulating Many-body Effects on the Optical Excitations in Quasi-2D Materials
END:VEVENT
END:VCALENDAR