BEGIN:VCALENDAR
VERSION:2.0
PRODID:-//hacksw/handcal//NONSGML v1.0//EN
CALSCALE:GREGORIAN
BEGIN:VEVENT
DTSTART:20190430T110000Z
DTEND:20190430T110000Z
UID:e21316
DTSTAMP:20260420T050128Z
LOCATION:Arthur and Rochelle Belfer Building for Biomedical Research
DESCRIPTION:A century-old assumption regarding neurons and brain learning is undermined by new types of experiments
SUMMARY:A century-old assumption regarding neurons and brain learning is undermined by new types of experiments
END:VEVENT
END:VCALENDAR