BEGIN:VCALENDAR
VERSION:2.0
PRODID:-//hacksw/handcal//NONSGML v1.0//EN
CALSCALE:GREGORIAN
BEGIN:VEVENT
DTSTART:20200202T050000Z
DTEND:20200205T050000Z
UID:e21364
DTSTAMP:20260424T055734Z
LOCATION:Michael Sela Auditorium
DESCRIPTION:Next Gen Immunology 2020
SUMMARY:Next Gen Immunology 2020
END:VEVENT
END:VCALENDAR