BEGIN:VCALENDAR
VERSION:2.0
PRODID:-//hacksw/handcal//NONSGML v1.0//EN
CALSCALE:GREGORIAN
BEGIN:VEVENT
DTSTART:20190627T110000Z
DTEND:20190627T123000Z
UID:e21414
DTSTAMP:20260420T054923Z
LOCATION:Nella and Leon Benoziyo Building for Biological Sciences
DESCRIPTION:Prof. Huib Ovaa DUB-selective reagents
SUMMARY:Prof. Huib Ovaa DUB-selective reagents
END:VEVENT
END:VCALENDAR