BEGIN:VCALENDAR
VERSION:2.0
PRODID:-//hacksw/handcal//NONSGML v1.0//EN
CALSCALE:GREGORIAN
BEGIN:VEVENT
DTSTART:20190526T120000Z
DTEND:20190526T130000Z
UID:e21418
DTSTAMP:20260422T041916Z
LOCATION:Arthur and Rochelle Belfer Building for Biomedical Research
DESCRIPTION:Beta cell workload and type 2 diabetes risk
SUMMARY:Beta cell workload and type 2 diabetes risk
END:VEVENT
END:VCALENDAR