BEGIN:VCALENDAR
VERSION:2.0
PRODID:-//hacksw/handcal//NONSGML v1.0//EN
CALSCALE:GREGORIAN
BEGIN:VEVENT
DTSTART:20190526T080000Z
DTEND:20190526T090000Z
UID:e21436
DTSTAMP:20260421T213545Z
LOCATION:Sussman Family Building for Environmental Sciences
DESCRIPTION:Mixing and Unmixing in Planets
SUMMARY:Mixing and Unmixing in Planets
END:VEVENT
END:VCALENDAR