BEGIN:VCALENDAR
VERSION:2.0
PRODID:-//hacksw/handcal//NONSGML v1.0//EN
CALSCALE:GREGORIAN
BEGIN:VEVENT
DTSTART:20190630T080000Z
DTEND:20190630T080000Z
UID:e21480
DTSTAMP:20260420T054924Z
LOCATION:Sussman Family Building for Environmental Sciences
DESCRIPTION:Influence of terrestrial plants and phytoplankton on photochemical air-pollution
SUMMARY:Influence of terrestrial plants and phytoplankton on photochemical air-pollution
END:VEVENT
END:VCALENDAR