BEGIN:VCALENDAR
VERSION:2.0
PRODID:-//hacksw/handcal//NONSGML v1.0//EN
CALSCALE:GREGORIAN
BEGIN:VEVENT
DTSTART:20190627T110000Z
DTEND:20190627T110000Z
UID:e21522
DTSTAMP:20260420T155039Z
LOCATION:Arthur and Rochelle Belfer Building for Biomedical Research
DESCRIPTION:Cytokines as neuromodulators:  How immunity affects brain function
SUMMARY:Cytokines as neuromodulators:  How immunity affects brain function
END:VEVENT
END:VCALENDAR