BEGIN:VCALENDAR
VERSION:2.0
PRODID:-//hacksw/handcal//NONSGML v1.0//EN
CALSCALE:GREGORIAN
BEGIN:VEVENT
DTSTART:20190617T100000Z
DTEND:20190617T110000Z
UID:e21530
DTSTAMP:20260419T185454Z
LOCATION:Wolfson Building for Biological Research
DESCRIPTION:IMM Guest seminar- Dr. Shai Bel will lecture on "Novel Defense Mechanisms in the Intestine".
SUMMARY:IMM Guest seminar- Dr. Shai Bel will lecture on "Novel Defense Mechanisms in the Intestine".
END:VEVENT
END:VCALENDAR