BEGIN:VCALENDAR
VERSION:2.0
PRODID:-//hacksw/handcal//NONSGML v1.0//EN
CALSCALE:GREGORIAN
BEGIN:VEVENT
DTSTART:20190714T080000Z
DTEND:20190714T090000Z
UID:e21558
DTSTAMP:20260420T034200Z
LOCATION:Perlman Chemical Sciences Building
DESCRIPTION:Trio correlation between cell mechanics\, phagocytic capacity\, and cancer aggressiveness
SUMMARY:Trio correlation between cell mechanics\, phagocytic capacity\, and cancer aggressiveness
END:VEVENT
END:VCALENDAR