BEGIN:VCALENDAR
VERSION:2.0
PRODID:-//hacksw/handcal//NONSGML v1.0//EN
CALSCALE:GREGORIAN
BEGIN:VEVENT
DTSTART:20190625T083000Z
DTEND:20190625T093000Z
UID:e21596
DTSTAMP:20260421T102938Z
LOCATION:Nella and Leon Benoziyo Building for Biological Sciences
DESCRIPTION:Suberin - the hidden lipophilic barrier of plants
SUMMARY:Suberin - the hidden lipophilic barrier of plants
END:VEVENT
END:VCALENDAR