BEGIN:VCALENDAR
VERSION:2.0
PRODID:-//hacksw/handcal//NONSGML v1.0//EN
CALSCALE:GREGORIAN
BEGIN:VEVENT
DTSTART:20190624T050000Z
DTEND:20190624T150000Z
UID:e21622
DTSTAMP:20260421T085411Z
LOCATION:The David Lopatie Conference Centre
DESCRIPTION:Methods and Problems in BioImaging Workshop
SUMMARY:Methods and Problems in BioImaging Workshop
END:VEVENT
END:VCALENDAR