BEGIN:VCALENDAR
VERSION:2.0
PRODID:-//hacksw/handcal//NONSGML v1.0//EN
CALSCALE:GREGORIAN
BEGIN:VEVENT
DTSTART:20191106T080000Z
DTEND:20191106T090000Z
UID:e21626
DTSTAMP:20260419T151802Z
LOCATION:Nella and Leon Benoziyo Building for Biological Sciences
DESCRIPTION:Life Science Colloquium- Prof Feng Zhang
SUMMARY:Life Science Colloquium- Prof Feng Zhang
END:VEVENT
END:VCALENDAR