BEGIN:VCALENDAR
VERSION:2.0
PRODID:-//hacksw/handcal//NONSGML v1.0//EN
CALSCALE:GREGORIAN
BEGIN:VEVENT
DTSTART:20190915T080000Z
DTEND:20190915T080000Z
UID:e21656
DTSTAMP:20260419T193515Z
LOCATION:Perlman Chemical Sciences Building
DESCRIPTION:Chemical and Biological Physics Dept Special Seminar
SUMMARY:Chemical and Biological Physics Dept Special Seminar
END:VEVENT
END:VCALENDAR