BEGIN:VCALENDAR
VERSION:2.0
PRODID:-//hacksw/handcal//NONSGML v1.0//EN
CALSCALE:GREGORIAN
BEGIN:VEVENT
DTSTART:20200114T050000Z
DTEND:20200115T050000Z
UID:e21658
DTSTAMP:20260422T120914Z
LOCATION:The David Lopatie Conference Centre
DESCRIPTION:Games\, Optimization and Optimism: in Honor of Uri Feige
SUMMARY:Games\, Optimization and Optimism: in Honor of Uri Feige
END:VEVENT
END:VCALENDAR