BEGIN:VCALENDAR
VERSION:2.0
PRODID:-//hacksw/handcal//NONSGML v1.0//EN
CALSCALE:GREGORIAN
BEGIN:VEVENT
DTSTART:20200512T110000Z
DTEND:20200512T130000Z
UID:e21662
DTSTAMP:20260420T091539Z
LOCATION:The David Lopatie Conference Centre
DESCRIPTION:Scientific Council meeting
SUMMARY:Scientific Council meeting
END:VEVENT
END:VCALENDAR