BEGIN:VCALENDAR
VERSION:2.0
PRODID:-//hacksw/handcal//NONSGML v1.0//EN
CALSCALE:GREGORIAN
BEGIN:VEVENT
DTSTART:20190718T081500Z
DTEND:20190718T093000Z
UID:e21678
DTSTAMP:20260419T185820Z
LOCATION:Edna and K.B. Weissman Building of Physical Sciences
DESCRIPTION:Special Physics Colloquium
SUMMARY:Special Physics Colloquium
END:VEVENT
END:VCALENDAR