BEGIN:VCALENDAR
VERSION:2.0
PRODID:-//hacksw/handcal//NONSGML v1.0//EN
CALSCALE:GREGORIAN
BEGIN:VEVENT
DTSTART:20190922T080000Z
DTEND:20190922T080000Z
UID:e21684
DTSTAMP:20260419T231726Z
LOCATION:Gerhard M.J. Schmidt Lecture Hall
DESCRIPTION:Ben May Center for Chemical Theory and Computation\, Inaugural lecture
SUMMARY:Ben May Center for Chemical Theory and Computation\, Inaugural lecture
END:VEVENT
END:VCALENDAR