BEGIN:VCALENDAR
VERSION:2.0
PRODID:-//hacksw/handcal//NONSGML v1.0//EN
CALSCALE:GREGORIAN
BEGIN:VEVENT
DTSTART:20191219T050000Z
DTEND:20191219T050000Z
UID:e21690
DTSTAMP:20260420T155015Z
LOCATION:The David Lopatie Conference Centre
DESCRIPTION:Sela Symposium
SUMMARY:Sela Symposium
END:VEVENT
END:VCALENDAR