BEGIN:VCALENDAR
VERSION:2.0
PRODID:-//hacksw/handcal//NONSGML v1.0//EN
CALSCALE:GREGORIAN
BEGIN:VEVENT
DTSTART:20190923T080000Z
DTEND:20190923T091500Z
UID:e21718
DTSTAMP:20260419T231726Z
LOCATION:Gerhard M.J. Schmidt Lecture Hall
DESCRIPTION:Ribosomal decoding\, tRNA modifications and human disease
SUMMARY:Ribosomal decoding\, tRNA modifications and human disease
END:VEVENT
END:VCALENDAR