BEGIN:VCALENDAR
VERSION:2.0
PRODID:-//hacksw/handcal//NONSGML v1.0//EN
CALSCALE:GREGORIAN
BEGIN:VEVENT
DTSTART:20191216T080000Z
DTEND:20191216T091500Z
UID:e21726
DTSTAMP:20260419T101554Z
LOCATION:Gerhard M.J. Schmidt Lecture Hall
DESCRIPTION:Solution-Processed Organic Semiconductors for Applications in Opto-electronic Devices
SUMMARY:Solution-Processed Organic Semiconductors for Applications in Opto-electronic Devices
END:VEVENT
END:VCALENDAR